BEGIN:VCALENDAR
METHOD:PUBLISH
VERSION:2.0
PRODID:-//AWF//Wydarzenia//Polish
BEGIN:VEVENT
SUMMARY:Turniej młodziczek w piłce ręcznej o Puchar Dywizji
DESCRIPTION:Zapraszamy na turniej młodziczek w piłce ręcznej o Puchar Dywizji do Hali Gier.
UID:71533
DTSTART:20260426T100000
DTEND:
END:VEVENT
END:VCALENDAR