BEGIN:VCALENDAR
METHOD:PUBLISH
VERSION:2.0
PRODID:-//AWF//Wydarzenia//Polish
BEGIN:VEVENT
SUMMARY:Liga Centralna Kobiet AZS AWF Warszawa Handball - EISBERG Dziewiątka Legnica
DESCRIPTION:Zapraszamy na mecz Ligi Centralnej Kobiet AZS AWF Warszawa Handball - EISBERG Dziewiątka Legnica do Hali Gier.
UID:71531
DTSTART:20260428T190000
DTEND:
END:VEVENT
END:VCALENDAR