BEGIN:VCALENDAR
METHOD:PUBLISH
VERSION:2.0
PRODID:-//AWF//Wydarzenia//Polish
BEGIN:VEVENT
SUMMARY:I ligi Piłki Ręcznej Mężczyzn KS AZS AWF Warszawa - Start Konin
DESCRIPTION:Zapraszamy na mecz I ligi Piłki Ręcznej Mężczyzn KS AZS AWF Warszawa - Start Konin do Hali Gier.
UID:71480
DTSTART:20260426T200000
DTEND:
END:VEVENT
END:VCALENDAR