BEGIN:VCALENDAR
METHOD:PUBLISH
VERSION:2.0
PRODID:-//AWF//Wydarzenia//Polish
BEGIN:VEVENT
SUMMARY:Scopus AI - pierwsze kroki i możliwości wykorzystania
DESCRIPTION:Scopus AI - pierwsze kroki i możliwości wykorzystaniaTempo badań naukowych nieustannie rośnie, a aby skutecznie się w nim odnaleźć, potrzebne są narzędzia, które nadążają za zmianami. Scopus AI łączy zaufane, wysokiej jakości treści Scopus z zaawansowanymi możliwościami sztucznej inteligencji, aby przyspieszyć wyszukiwanie, interpretację i odkrywanie nowych obszarów badawczych. W trakcie tej sesji pokażemy, jak wyszukiwanie wspomagane sztuczną inteligencją może pomóc szybko zrozumieć złożone tematy, wyodrębnić kluczowe wnioski i sprawniej generować odpowiedzi na najważniejsze pytania badawcze. Omówimy funkcje takie jak automatyczne podsumowania, interaktywna eksploracja pojęć oraz generowanie wyników dostosowanych do Twoich potrzeb dzięki połączeniu zaufanych danych z inteligentną technologią wyszukiwawczą.Czego się nauczysz:- usprawnienia wyszukiwania literatury dzięki zapytaniom w języku naturalnym- jak poszerzyć kierunki badań dzięki rozwiązaniu pytań uzupełniających- przeprowadzania efektywniejszych przeglądów literatury na wczesnym etapie prac badawczo-rozwojowychRejestracja
UID:71590
DTSTART:20260505T130000
DTEND:
END:VEVENT
END:VCALENDAR