BEGIN:VCALENDAR
METHOD:PUBLISH
VERSION:2.0
PRODID:-//AWF//Wydarzenia//Polish
BEGIN:VEVENT
SUMMARY:Efektywne wyszukiwanie literatury w Scopusie i ScienceDirect
DESCRIPTION:Webinarium:&nbsp;"Efektywne wyszukiwanie literatury w Scopusie i ScienceDirect"Podczas szkolenia uczestnicy poznają praktyczne strategie wyszukiwania i analizowania literatury naukowej z wykorzystaniem dwóch kluczowych narzędzi: Scopusa i ScienceDirect. Warsztat pokaże, jak formułować skuteczne zapytania, zawężać wyniki oraz wykorzystywać funkcje obu platform do wspierania badań, pracy dydaktycznej i przygotowywania publikacji. Uczestnicy dowiedzą się również, czym różnią się Scopus i ScienceDirect, jakie dane oferują oraz w jakich sytuacjach najlepiej korzystać z każdej z tych baz.Rejestracja
UID:71445
DTSTART:20260512T113000
DTEND:
END:VEVENT
END:VCALENDAR